BEGIN:VCALENDAR
VERSION:2.0
PRODID:-//Bike-Club Prättigau//NONSGML kigkonsult.se iCalcreator 2.16.12//
METHOD:PUBLISH
X-MS-OLK-FORCEINSPECTOROPEN:TRUE
BEGIN:VEVENT
UID:20260422T111331CEST-72380vnpRm@Bike-Club Prättigau
DTSTAMP:20260422T091331Z
DESCRIPTION:Bike-Touren am Montagabend in zwei Gruppen
DTSTART:20260420T183000
DTEND:20260831T210000
LOCATION:unterhalb Restaurant Alpina Schiers
ORGANIZER:MAILTO:Bike-Club Prättigau <vorstand@bike-club.ch>
SUMMARY:Bike-Treff am Montag
END:VEVENT
END:VCALENDAR
